BEGIN:VCALENDAR
VERSION:2.0
PRODID:-//Rumson Garden Club - ECPv6.15.20//NONSGML v1.0//EN
CALSCALE:GREGORIAN
METHOD:PUBLISH
X-WR-CALNAME:Rumson Garden Club
X-ORIGINAL-URL:https://rumsongardenclubnj.org
X-WR-CALDESC:Events for Rumson Garden Club
REFRESH-INTERVAL;VALUE=DURATION:PT1H
X-Robots-Tag:noindex
X-PUBLISHED-TTL:PT1H
BEGIN:VTIMEZONE
TZID:America/New_York
BEGIN:DAYLIGHT
TZOFFSETFROM:-0500
TZOFFSETTO:-0400
TZNAME:EDT
DTSTART:20220313T070000
END:DAYLIGHT
BEGIN:STANDARD
TZOFFSETFROM:-0400
TZOFFSETTO:-0500
TZNAME:EST
DTSTART:20221106T060000
END:STANDARD
BEGIN:DAYLIGHT
TZOFFSETFROM:-0500
TZOFFSETTO:-0400
TZNAME:EDT
DTSTART:20230312T070000
END:DAYLIGHT
BEGIN:STANDARD
TZOFFSETFROM:-0400
TZOFFSETTO:-0500
TZNAME:EST
DTSTART:20231105T060000
END:STANDARD
BEGIN:DAYLIGHT
TZOFFSETFROM:-0500
TZOFFSETTO:-0400
TZNAME:EDT
DTSTART:20240310T070000
END:DAYLIGHT
BEGIN:STANDARD
TZOFFSETFROM:-0400
TZOFFSETTO:-0500
TZNAME:EST
DTSTART:20241103T060000
END:STANDARD
END:VTIMEZONE
BEGIN:VEVENT
DTSTART;TZID=America/New_York:20231202T080000
DTEND;TZID=America/New_York:20231202T120000
DTSTAMP:20260420T162319
CREATED:20231117T221239Z
LAST-MODIFIED:20231117T221239Z
UID:932-1701504000-1701518400@rumsongardenclubnj.org
SUMMARY:Christmas Greens Wreath Making
DESCRIPTION:Join your fellow members for some camaraderie and get in the Christmas spirit as we design beautiful wreaths for local charities!  \nPlease email Stephanie at lutz.sd@gmail.com to let her know you will help with the wreath making.
URL:https://rumsongardenclubnj.org/event/christmas-greens-wreath-making/
LOCATION:Bingham Hall\, 40 Bingham Avenue
END:VEVENT
BEGIN:VEVENT
DTSTART;TZID=America/New_York:20231202T120000
DTEND;TZID=America/New_York:20231202T140000
DTSTAMP:20260420T162319
CREATED:20231117T221328Z
LAST-MODIFIED:20231117T221328Z
UID:933-1701518400-1701525600@rumsongardenclubnj.org
SUMMARY:Wreath Making with Friends
DESCRIPTION:Once we are finished making the wreaths for local charities\, we are opening it up to making wreaths with our friends.  Wreaths ($60/each) need to be pre-ordered with Stephanie Hoitt.\nPlease email Stephanie at lutz.sd@gmail.com to let her know if you would like to create your own wreath masterpiece and the number of wreaths you will need!  
URL:https://rumsongardenclubnj.org/event/wreath-making-with-friends/
LOCATION:Bingham Hall\, 40 Bingham Avenue
END:VEVENT
BEGIN:VEVENT
DTSTART;TZID=America/New_York:20231202T140000
DTEND;TZID=America/New_York:20231202T150000
DTSTAMP:20260420T162319
CREATED:20231117T221425Z
LAST-MODIFIED:20231117T221425Z
UID:934-1701525600-1701529200@rumsongardenclubnj.org
SUMMARY:Oceanic Library Window Boxes
DESCRIPTION:Civics greening up the window boxes at the Oceanic Library!\nPlease RSVP to Betsy at betsyford72@gmail.com if you would like to help.
URL:https://rumsongardenclubnj.org/event/oceanic-library-window-boxes/
LOCATION:Oceanic Free Library\, 109 Ave of Two Rivers\, Rumson\, NJ\, 07760\, United States
CATEGORIES:Civics
END:VEVENT
END:VCALENDAR