BEGIN:VCALENDAR
VERSION:2.0
PRODID:-//Rumson Garden Club - ECPv6.15.20//NONSGML v1.0//EN
CALSCALE:GREGORIAN
METHOD:PUBLISH
X-ORIGINAL-URL:https://rumsongardenclubnj.org
X-WR-CALDESC:Events for Rumson Garden Club
REFRESH-INTERVAL;VALUE=DURATION:PT1H
X-Robots-Tag:noindex
X-PUBLISHED-TTL:PT1H
BEGIN:VTIMEZONE
TZID:America/New_York
BEGIN:DAYLIGHT
TZOFFSETFROM:-0500
TZOFFSETTO:-0400
TZNAME:EDT
DTSTART:20230312T070000
END:DAYLIGHT
BEGIN:STANDARD
TZOFFSETFROM:-0400
TZOFFSETTO:-0500
TZNAME:EST
DTSTART:20231105T060000
END:STANDARD
BEGIN:DAYLIGHT
TZOFFSETFROM:-0500
TZOFFSETTO:-0400
TZNAME:EDT
DTSTART:20240310T070000
END:DAYLIGHT
BEGIN:STANDARD
TZOFFSETFROM:-0400
TZOFFSETTO:-0500
TZNAME:EST
DTSTART:20241103T060000
END:STANDARD
BEGIN:DAYLIGHT
TZOFFSETFROM:-0500
TZOFFSETTO:-0400
TZNAME:EDT
DTSTART:20250309T070000
END:DAYLIGHT
BEGIN:STANDARD
TZOFFSETFROM:-0400
TZOFFSETTO:-0500
TZNAME:EST
DTSTART:20251102T060000
END:STANDARD
END:VTIMEZONE
BEGIN:VEVENT
DTSTART;TZID=America/New_York:20240129T170000
DTEND;TZID=America/New_York:20240129T190000
DTSTAMP:20260420T104422
CREATED:20240123T135528Z
LAST-MODIFIED:20240123T135528Z
UID:1039-1706547600-1706554800@rumsongardenclubnj.org
SUMMARY:GCA's Native Plant Month Initiative (NPMI) Organization Meeting
DESCRIPTION:Fresh ideas needed to put into action the Proclamation making April National Native Plant Month\nMonday\, January 29th at 5:00p\nRobbyn O’Neill’s home\, 935 River Rd in Fair Haven\n \n*Establish how our towns have promoted Native Plants\n*Relationship building with Conservation organizations in our towns\, county and state\n*Strategize a consistent communications outline/develop hashtags/social media\n*Review ways to use school and library programs\n*Promote Native Plant related state and federal legislation\n*Write a “Tax Saving Benefits of Native Plantings for Local Municipalities”
URL:https://rumsongardenclubnj.org/event/gcas-native-plant-month-initiative-npmi-organization-meeting/
LOCATION:Robbyn O’Neill’s house\, 935 River Road\, Fair Haven\, NJ\, United States
CATEGORIES:Conservation
END:VEVENT
END:VCALENDAR