BEGIN:VCALENDAR
VERSION:2.0
PRODID:-//Rumson Garden Club - ECPv6.15.20//NONSGML v1.0//EN
CALSCALE:GREGORIAN
METHOD:PUBLISH
X-ORIGINAL-URL:https://rumsongardenclubnj.org
X-WR-CALDESC:Events for Rumson Garden Club
REFRESH-INTERVAL;VALUE=DURATION:PT1H
X-Robots-Tag:noindex
X-PUBLISHED-TTL:PT1H
BEGIN:VTIMEZONE
TZID:America/New_York
BEGIN:DAYLIGHT
TZOFFSETFROM:-0500
TZOFFSETTO:-0400
TZNAME:EDT
DTSTART:20240310T070000
END:DAYLIGHT
BEGIN:STANDARD
TZOFFSETFROM:-0400
TZOFFSETTO:-0500
TZNAME:EST
DTSTART:20241103T060000
END:STANDARD
BEGIN:DAYLIGHT
TZOFFSETFROM:-0500
TZOFFSETTO:-0400
TZNAME:EDT
DTSTART:20250309T070000
END:DAYLIGHT
BEGIN:STANDARD
TZOFFSETFROM:-0400
TZOFFSETTO:-0500
TZNAME:EST
DTSTART:20251102T060000
END:STANDARD
BEGIN:DAYLIGHT
TZOFFSETFROM:-0500
TZOFFSETTO:-0400
TZNAME:EDT
DTSTART:20260308T070000
END:DAYLIGHT
BEGIN:STANDARD
TZOFFSETFROM:-0400
TZOFFSETTO:-0500
TZNAME:EST
DTSTART:20261101T060000
END:STANDARD
END:VTIMEZONE
BEGIN:VEVENT
DTSTART;TZID=America/New_York:20250203T083000
DTEND;TZID=America/New_York:20250203T093000
DTSTAMP:20260422T111219
CREATED:20240725T144419Z
LAST-MODIFIED:20240725T144419Z
UID:1195-1738571400-1738575000@rumsongardenclubnj.org
SUMMARY:Board Meeting
DESCRIPTION:
URL:https://rumsongardenclubnj.org/event/board-meeting-9/
LOCATION:Bingham Hall\, 40 Bingham Avenue
CATEGORIES:Board Meeting
END:VEVENT
BEGIN:VEVENT
DTSTART;TZID=America/New_York:20250203T123000
DTEND;TZID=America/New_York:20250203T143000
DTSTAMP:20260422T111219
CREATED:20250109T171729Z
LAST-MODIFIED:20250109T171925Z
UID:1424-1738585800-1738593000@rumsongardenclubnj.org
SUMMARY:New Members Valentine Luncheon
DESCRIPTION:Taphy Harcsar\, Susan Sorokolit and Joan Lynch invite all new members to a Valentine luncheon which will be hosted by Taphy at her home\, 10 Osprey Lane\, on February 3rd at 12:30. Our guest speaker\, Maya Speelmans\, will be speaking on the ins and outs of passing and clerking.
URL:https://rumsongardenclubnj.org/event/new-members-valentine-luncheon/
LOCATION:10 Osprey Lane\, 10 Osprey Lane\, Rumson
CATEGORIES:Meetings
END:VEVENT
END:VCALENDAR