BEGIN:VCALENDAR
VERSION:2.0
PRODID:-//Rumson Garden Club - ECPv6.15.20//NONSGML v1.0//EN
CALSCALE:GREGORIAN
METHOD:PUBLISH
X-WR-CALNAME:Rumson Garden Club
X-ORIGINAL-URL:https://rumsongardenclubnj.org
X-WR-CALDESC:Events for Rumson Garden Club
REFRESH-INTERVAL;VALUE=DURATION:PT1H
X-Robots-Tag:noindex
X-PUBLISHED-TTL:PT1H
BEGIN:VTIMEZONE
TZID:America/New_York
BEGIN:DAYLIGHT
TZOFFSETFROM:-0500
TZOFFSETTO:-0400
TZNAME:EDT
DTSTART:20230312T070000
END:DAYLIGHT
BEGIN:STANDARD
TZOFFSETFROM:-0400
TZOFFSETTO:-0500
TZNAME:EST
DTSTART:20231105T060000
END:STANDARD
BEGIN:DAYLIGHT
TZOFFSETFROM:-0500
TZOFFSETTO:-0400
TZNAME:EDT
DTSTART:20240310T070000
END:DAYLIGHT
BEGIN:STANDARD
TZOFFSETFROM:-0400
TZOFFSETTO:-0500
TZNAME:EST
DTSTART:20241103T060000
END:STANDARD
BEGIN:DAYLIGHT
TZOFFSETFROM:-0500
TZOFFSETTO:-0400
TZNAME:EDT
DTSTART:20250309T070000
END:DAYLIGHT
BEGIN:STANDARD
TZOFFSETFROM:-0400
TZOFFSETTO:-0500
TZNAME:EST
DTSTART:20251102T060000
END:STANDARD
END:VTIMEZONE
BEGIN:VEVENT
DTSTART;TZID=America/New_York:20240102T083000
DTEND;TZID=America/New_York:20240102T100000
DTSTAMP:20260422T055611
CREATED:20230711T024536Z
LAST-MODIFIED:20230921T213931Z
UID:673-1704184200-1704189600@rumsongardenclubnj.org
SUMMARY:Board Meeting
DESCRIPTION:
URL:https://rumsongardenclubnj.org/event/board-meeting-2/
LOCATION:Bingham Hall\, 40 Bingham Avenue
CATEGORIES:Board Meeting
END:VEVENT
BEGIN:VEVENT
DTSTART;TZID=America/New_York:20240118T130000
DTEND;TZID=America/New_York:20240118T150000
DTSTAMP:20260422T055611
CREATED:20230912T145358Z
LAST-MODIFIED:20240110T195845Z
UID:778-1705582800-1705590000@rumsongardenclubnj.org
SUMMARY:Staging Committee
DESCRIPTION:Machiko Maki \nNancy Bowe \nStephanie Hoitt
URL:https://rumsongardenclubnj.org/event/staging-committee-5/
LOCATION:Rumson Country Club Riverhouse\, 163 Rumson Rd\, Rumson\, NJ\, 07760\, United States
CATEGORIES:Staging
END:VEVENT
BEGIN:VEVENT
DTSTART;TZID=America/New_York:20240118T163000
DTEND;TZID=America/New_York:20240118T210000
DTSTAMP:20260422T055611
CREATED:20230711T025655Z
LAST-MODIFIED:20230908T224259Z
UID:680-1705595400-1705611600@rumsongardenclubnj.org
SUMMARY:January Meeting + Cocktails
DESCRIPTION:*Please note the change in hours from our regular schedule \nShow Details\nBotanical Arts + Horticulture + Photography (In-House Judges) \n*All entries must be ready for passing by 5pm*\n5:00 – 5:30 PM: Passing \n6:00 PM: Business Meeting/Judging \n7:00 – 8 PM: Guest Speaker/Lecture \n8 PM: Evening Cocktails
URL:https://rumsongardenclubnj.org/event/january-meeting-cocktails/
LOCATION:Rumson Country Club Riverhouse\, 163 Rumson Rd\, Rumson\, NJ\, 07760\, United States
CATEGORIES:Meetings
END:VEVENT
BEGIN:VEVENT
DTSTART;VALUE=DATE:20240125
DTEND;VALUE=DATE:20240126
DTSTAMP:20260422T055611
CREATED:20240123T134809Z
LAST-MODIFIED:20240123T203010Z
UID:1037-1706140800-1706227199@rumsongardenclubnj.org
SUMMARY:GCA Virtual Photography Conference
DESCRIPTION:Registration on GCA website: https://www.gcamerica.org/members:calendar/ereventdetails/id/480
URL:https://rumsongardenclubnj.org/event/gca-virtual-photography-conference/
LOCATION:NJ
CATEGORIES:GCA Conference,Photography
END:VEVENT
BEGIN:VEVENT
DTSTART;TZID=America/New_York:20240125T163000
DTEND;TZID=America/New_York:20240125T193000
DTSTAMP:20260422T055611
CREATED:20240123T134955Z
LAST-MODIFIED:20240123T134955Z
UID:1038-1706200200-1706211000@rumsongardenclubnj.org
SUMMARY:Movie Night at Robbyn O'Neill's
DESCRIPTION: “Symphony of the Soil” a film by Deborah Koons Garcia\n\n*Thursday\, January 25th from 4:30-7:30pm\n\n\nRobbyn O’Neill’s home\, 935 River Rd in Fair Haven\nHors d’oeuvres will be served\nPlease RSVP at robbynoneill@gmail.com to attend.  Thank you!\n(* Date corrected from the Heap!)\n \nwww.symphonyofthesoil.com\n“Filmed on four continents\, featuring  esteemed scientists and working farmers and ranchers\, Symphony of the Soil is an intriguing presentation that highlights possibilities of healthy soil creating healthy plants creating healthy humans living on a healthy planet.”
URL:https://rumsongardenclubnj.org/event/movie-night-at-robbyn-oneills/
LOCATION:NJ
CATEGORIES:Conservation
END:VEVENT
BEGIN:VEVENT
DTSTART;TZID=America/New_York:20240129T170000
DTEND;TZID=America/New_York:20240129T190000
DTSTAMP:20260422T055611
CREATED:20240123T135528Z
LAST-MODIFIED:20240123T135528Z
UID:1039-1706547600-1706554800@rumsongardenclubnj.org
SUMMARY:GCA's Native Plant Month Initiative (NPMI) Organization Meeting
DESCRIPTION:Fresh ideas needed to put into action the Proclamation making April National Native Plant Month\nMonday\, January 29th at 5:00p\nRobbyn O’Neill’s home\, 935 River Rd in Fair Haven\n \n*Establish how our towns have promoted Native Plants\n*Relationship building with Conservation organizations in our towns\, county and state\n*Strategize a consistent communications outline/develop hashtags/social media\n*Review ways to use school and library programs\n*Promote Native Plant related state and federal legislation\n*Write a “Tax Saving Benefits of Native Plantings for Local Municipalities”
URL:https://rumsongardenclubnj.org/event/gcas-native-plant-month-initiative-npmi-organization-meeting/
LOCATION:Robbyn O’Neill’s house\, 935 River Road\, Fair Haven\, NJ\, United States
CATEGORIES:Conservation
END:VEVENT
END:VCALENDAR