BEGIN:VCALENDAR
VERSION:2.0
PRODID:-//Rumson Garden Club - ECPv6.15.20//NONSGML v1.0//EN
CALSCALE:GREGORIAN
METHOD:PUBLISH
X-WR-CALNAME:Rumson Garden Club
X-ORIGINAL-URL:https://rumsongardenclubnj.org
X-WR-CALDESC:Events for Rumson Garden Club
REFRESH-INTERVAL;VALUE=DURATION:PT1H
X-Robots-Tag:noindex
X-PUBLISHED-TTL:PT1H
BEGIN:VTIMEZONE
TZID:America/New_York
BEGIN:DAYLIGHT
TZOFFSETFROM:-0500
TZOFFSETTO:-0400
TZNAME:EDT
DTSTART:20230312T070000
END:DAYLIGHT
BEGIN:STANDARD
TZOFFSETFROM:-0400
TZOFFSETTO:-0500
TZNAME:EST
DTSTART:20231105T060000
END:STANDARD
BEGIN:DAYLIGHT
TZOFFSETFROM:-0500
TZOFFSETTO:-0400
TZNAME:EDT
DTSTART:20240310T070000
END:DAYLIGHT
BEGIN:STANDARD
TZOFFSETFROM:-0400
TZOFFSETTO:-0500
TZNAME:EST
DTSTART:20241103T060000
END:STANDARD
BEGIN:DAYLIGHT
TZOFFSETFROM:-0500
TZOFFSETTO:-0400
TZNAME:EDT
DTSTART:20250309T070000
END:DAYLIGHT
BEGIN:STANDARD
TZOFFSETFROM:-0400
TZOFFSETTO:-0500
TZNAME:EST
DTSTART:20251102T060000
END:STANDARD
END:VTIMEZONE
BEGIN:VEVENT
DTSTART;TZID=America/New_York:20240205T083000
DTEND;TZID=America/New_York:20240205T100000
DTSTAMP:20260420T103547
CREATED:20230711T024619Z
LAST-MODIFIED:20230921T213954Z
UID:674-1707121800-1707127200@rumsongardenclubnj.org
SUMMARY:Board Meeting
DESCRIPTION:
URL:https://rumsongardenclubnj.org/event/board-meeting-3/
LOCATION:Bingham Hall\, 40 Bingham Avenue
CATEGORIES:Board Meeting
END:VEVENT
BEGIN:VEVENT
DTSTART;TZID=America/New_York:20240220T110000
DTEND;TZID=America/New_York:20240220T130000
DTSTAMP:20260420T103547
CREATED:20230711T025805Z
LAST-MODIFIED:20240123T133819Z
UID:681-1708426800-1708434000@rumsongardenclubnj.org
SUMMARY:Container Garden Workshop
DESCRIPTION:Will be held at Sickles. \nMore details to come…
URL:https://rumsongardenclubnj.org/event/container-garden-workshop/
LOCATION:NJ
CATEGORIES:Workshops
END:VEVENT
BEGIN:VEVENT
DTSTART;VALUE=DATE:20240223
DTEND;VALUE=DATE:20240224
DTSTAMP:20260420T103547
CREATED:20240124T134327Z
LAST-MODIFIED:20240124T134327Z
UID:1041-1708646400-1708732799@rumsongardenclubnj.org
SUMMARY:NJ Watershed Conference
DESCRIPTION:The Watershed Conference is an annual educational and networking event on topics related to watershed health in New Jersey.  The Watershed Conference will offer sessions that will increase knowledge and skills\, encourage discussions between stakeholders\, and foster collaboration on specific issues and potential solutions. \nRegister here: https://thewatershed.org/7th-annual-watershed-conference/
URL:https://rumsongardenclubnj.org/event/nj-watershed-conference/
LOCATION:NJ
CATEGORIES:Conservation
END:VEVENT
END:VCALENDAR