BEGIN:VCALENDAR
VERSION:2.0
PRODID:-//Rumson Garden Club - ECPv6.15.20//NONSGML v1.0//EN
CALSCALE:GREGORIAN
METHOD:PUBLISH
X-WR-CALNAME:Rumson Garden Club
X-ORIGINAL-URL:https://rumsongardenclubnj.org
X-WR-CALDESC:Events for Rumson Garden Club
REFRESH-INTERVAL;VALUE=DURATION:PT1H
X-Robots-Tag:noindex
X-PUBLISHED-TTL:PT1H
BEGIN:VTIMEZONE
TZID:America/New_York
BEGIN:DAYLIGHT
TZOFFSETFROM:-0500
TZOFFSETTO:-0400
TZNAME:EDT
DTSTART:20250309T070000
END:DAYLIGHT
BEGIN:STANDARD
TZOFFSETFROM:-0400
TZOFFSETTO:-0500
TZNAME:EST
DTSTART:20251102T060000
END:STANDARD
BEGIN:DAYLIGHT
TZOFFSETFROM:-0500
TZOFFSETTO:-0400
TZNAME:EDT
DTSTART:20260308T070000
END:DAYLIGHT
BEGIN:STANDARD
TZOFFSETFROM:-0400
TZOFFSETTO:-0500
TZNAME:EST
DTSTART:20261101T060000
END:STANDARD
BEGIN:DAYLIGHT
TZOFFSETFROM:-0500
TZOFFSETTO:-0400
TZNAME:EDT
DTSTART:20270314T070000
END:DAYLIGHT
BEGIN:STANDARD
TZOFFSETFROM:-0400
TZOFFSETTO:-0500
TZNAME:EST
DTSTART:20271107T060000
END:STANDARD
END:VTIMEZONE
BEGIN:VEVENT
DTSTART;TZID=America/New_York:20260422T110000
DTEND;TZID=America/New_York:20260422T120000
DTSTAMP:20260422T145213
CREATED:20260416T141834Z
LAST-MODIFIED:20260416T141834Z
UID:2433-1776855600-1776859200@rumsongardenclubnj.org
SUMMARY:Sandy Hook P4P Planting
DESCRIPTION:Celebrate Earth Day and Plant with Us! \n\nHelp Restore our Habitat! \n\nYou are cordially invited to join a Sandy Hook Park P4P Planting Party!\n\nWhen: Wednesday\, April 22 at 11 am\n\nWhere: Sandy Hook parking lot D.\n\nBring: gloves\, spade or shovel\, sunscreen\, hat\, mug.\n\nRSVP: srf529@gmail.com
URL:https://rumsongardenclubnj.org/event/sandy-hook-p4p-planting/
LOCATION:Sandy Hook
END:VEVENT
END:VCALENDAR